BEGIN:VCALENDAR
PRODID:-//kirchenweb.ch gmbh//veranstaltungsausgabe v2.0//DE
VERSION:2.0
METHOD:PUBLISH
BEGIN:VEVENT
DTSTART:20260428T070000Z
DTEND:20260428T090000Z
LOCATION:Gemeinschaftsraum\, Kirchenzentrum EG Ost\, \,
TRANSP:OPAQUE
SEQUENCE:0
UID:58506-veranstaltung@kirchenregion-laupen.ch
DTSTAMP:20260408T101007Z
DESCRIPTION:Mit dem Begegnungs-Kaffee möchte die Kirchgemeinde Mühleberg
  zu einem lebendigen Dorfleben beitragen und zum Austausch einladen. Neue
  Bekanntschaften schliessen\, interessante Gespräche führen. Du bist
  herzlich eingeladen. \n\n\n\nKontakt: MG\n\nWeitere Infos:
  https://www.kirchenregion-laupen.ch/veranstaltung/58506
SUMMARY:Begegnungskaffee
PRIORITY:5
X-MICROSOFT-CDO-IMPORTANCE:1
CLASS:PUBLIC
END:VEVENT
END:VCALENDAR
