BEGIN:VCALENDAR
PRODID:-//kirchenweb.ch gmbh//veranstaltungsausgabe v2.0//DE
VERSION:2.0
METHOD:PUBLISH
BEGIN:VEVENT
DTSTART:20260915T073000Z
DTEND:20260915T080000Z
LOCATION:Mehrzweckraum\, Kirchenzentrum\, EG West\, Buchstrasse 8\, 3203
  Mühleberg
TRANSP:OPAQUE
SEQUENCE:0
UID:58341-veranstaltung@kirchenregion-laupen.ch
DTSTAMP:20260409T124503Z
DESCRIPTION:Fyre mit de Chlyne» im Mehrzweckraum EG\, Kirchenzentrum\,
  Leitung: Sozialdiakon Lukas Sievi. \nWir laden alle Kinder von 3 bis 7
  Jahren mit ihren Eltern\, Geschwistern\, Freunden sowie Grosseltern\,
  Gotte und Götti herzlich zu diesem Kurz-Gottesdienst (ca. 30 Minuten)
  ein.\nEs besteht die Möglichkeit\, vor und nach der Feier das
  Begegnungscafé im Gemeinschaftsraum nebenan zu besuchen.\n\nKontakt:
  Lukas Sievi (Sozialdiakon SDM)\n\nWeitere Infos:
  https://www.kirchenregion-laupen.ch/veranstaltung/58341
SUMMARY:Fiire mit de Chliine
PRIORITY:5
X-MICROSOFT-CDO-IMPORTANCE:1
CLASS:PUBLIC
END:VEVENT
END:VCALENDAR
