BEGIN:VCALENDAR
PRODID:-//kirchenweb.ch gmbh//veranstaltungsausgabe v2.0//DE
VERSION:2.0
METHOD:PUBLISH
BEGIN:VEVENT
DTSTART:20260503T150000Z
DTEND:20260503T160000Z
LOCATION:Kirche\, Buchstrasse 5\, 3203 Mühleberg
TRANSP:OPAQUE
SEQUENCE:0
UID:58120-veranstaltung@kirchenregion-laupen.ch
DTSTAMP:20260415T063324Z
DESCRIPTION:Svetlana Affolter\, Orgel\nJuan Revilla\, Cello\n\nEintritt
  frei - Kollekte\n\nKontakt: Markus Gammenthaler\n\n\nWeitere Infos:
  https://www.kirchenregion-laupen.ch/veranstaltung/58120
SUMMARY:Kirchenkonzert "Brücken bauen zwischen Kulturen\, Epochen\,
  Völkern"
PRIORITY:5
X-MICROSOFT-CDO-IMPORTANCE:1
CLASS:PUBLIC
END:VEVENT
END:VCALENDAR
