BEGIN:VCALENDAR
PRODID:-//kirchenweb.ch gmbh//veranstaltungsausgabe v2.0//DE
VERSION:2.0
METHOD:PUBLISH
BEGIN:VEVENT
DTSTART:20260502T150000Z
DTEND:20260502T160000Z
LOCATION:Kirche\, Buchstrasse 5\, 3203 Mühleberg
TRANSP:OPAQUE
SEQUENCE:0
UID:57712-veranstaltung@kirchenregion-laupen.ch
DTSTAMP:20260331T094434Z
DESCRIPTION:Hilfst du mit bei einer „ Familie-Fiir“?\n\nMitbetreuen
  – Mithelfen – Mitfreuen!\nWir suchen Schüler.Innen\, die Lust haben:
  \n\n•	Kleine Kinder zu begrüssen und zu betreuen\n•       Die das
  Material verteilen\, mitschneiden und kleben\n•	Den Raum vorher und
  nachher mitorganisieren\n•	Beim Znüni/Zvieri mitmachen\n\n\nMach mit
  und schenk den Kleinen und ihren Familie eine warme\, fröhliche Zeit!
 \n&nbsp;\n&nbsp;\n&nbsp;\n&nbsp;\n&nbsp;\nWo & Wann: \n1. Samstag im
  Monat\, 17.00 Uhr in der Kirche\n(Ausnahme: Sonntag\, 5. Juli\,
  Morgengottesdienst um 10 Uhr\, open air an einem schönen Ort in der
  Gemeinde.)\n\n\n\nKontakt: Pfrn. Tania Guillaume\n\nWeitere Infos:
  https://www.kirchenregion-laupen.ch/veranstaltung/57712
SUMMARY:KUW-Angebot: Mithelfen Familie-Fiir
PRIORITY:5
X-MICROSOFT-CDO-IMPORTANCE:1
CLASS:PUBLIC
END:VEVENT
END:VCALENDAR
