BEGIN:VCALENDAR
PRODID:-//kirchenweb.ch gmbh//veranstaltungsausgabe v2.0//DE
VERSION:2.0
METHOD:PUBLISH
BEGIN:VEVENT
DTSTART:20260705T080000Z
DTEND:20260705T090000Z
LOCATION:open air - Gemeindegebiet Mühleberg\, \,  Mühleberg
TRANSP:OPAQUE
SEQUENCE:0
UID:57701-veranstaltung@kirchenregion-laupen.ch
DTSTAMP:20260310T162451Z
DESCRIPTION:Kontakt: Pfrn. Tania Guillaume\n\nWeitere Infos:
  https://www.kirchenregion-laupen.ch/veranstaltung/57701
SUMMARY:Open Air Gottesdienst mit Familie-Fiir
PRIORITY:5
X-MICROSOFT-CDO-IMPORTANCE:1
CLASS:PUBLIC
END:VEVENT
END:VCALENDAR
