BEGIN:VCALENDAR
PRODID:-//kirchenweb.ch gmbh//veranstaltungsausgabe v2.0//DE
VERSION:2.0
METHOD:PUBLISH
BEGIN:VEVENT
DTSTART:20260606T153000Z
DTEND:20260606T160000Z
LOCATION:Kirche\, Buchstrasse 5\, 3203 Mühleberg
TRANSP:OPAQUE
SEQUENCE:0
UID:57700-veranstaltung@kirchenregion-laupen.ch
DTSTAMP:20260310T162451Z
DESCRIPTION:\n\nKontakt: Lukas Sievi (Sozialdiakon SDM)\n\nWeitere Infos:
  https://www.kirchenregion-laupen.ch/veranstaltung/57700
SUMMARY:Familie-Fiir
PRIORITY:5
X-MICROSOFT-CDO-IMPORTANCE:1
CLASS:PUBLIC
END:VEVENT
END:VCALENDAR
