BEGIN:VCALENDAR
PRODID:-//kirchenweb.ch gmbh//veranstaltungsausgabe v2.0//DE
VERSION:2.0
METHOD:PUBLISH
BEGIN:VEVENT
DTSTART:20260423T080000Z
DTEND:20260423T140000Z
LOCATION:Kirchenzentrum EG\, Buchstrasse 8\, 3203 Mühleberg
TRANSP:OPAQUE
SEQUENCE:0
UID:57656-veranstaltung@kirchenregion-laupen.ch
DTSTAMP:20260414T115431Z
DESCRIPTION:Am 3. Mai werden zwei Kinder aus unserer Gemeinde getauft. An
  einem Vorbereitungstag von 10.00–16.00 Uhr gestalten wir diesen
  besonderen Gottesdienst gemeinsam.\nWir setzen uns damit auseinander\,
  was Taufe bedeutet\, warum sie gefeiert wird und wer eigentlich taufen
  darf. Dabei bleibt auch Raum für Fragen\, eigene Gedanken und kreative
  Ideen. Wer möchte\, darf – nach gemeinsamer Absprache – sogar selbst
  eine Taufhandlung mitgestalten.\nDie Schülerinnen und Schüler können
  sich auf unterschiedliche Weise einbringen: Sie basteln etwas für die
  Täuflinge\, schreiben Wünsche oder ein Gedicht\, malen Bilder\, tragen
  ein Musikstück vor oder gestalten Beiträge ganz nach ihren Interessen
  und Begabungen.\nSo entsteht ein persönlicher Taufgottesdienst\, der von
  Gemeinschaft\, Kreativität und Mitwirkung lebt.\n\n\n\nDatum:\nEin
  Kurstag Donnerstag\, 23. April 2026\, 10.00-16.00 Uhr im Kirchenzentrum\,
 \n(bitte eigener Lunch mitbringen)\nzuzüglich Mithilfe am
  Taufgottesdienst\,\nhttps://www.ref-muehleberg.ch/veranstaltung/55190
 \nAnmeldung bis 13.04.2026.\n\n\n\n\nKontakt: Pfrn. Tania Guillaume\n
 \nWeitere Infos: https://www.kirchenregion-laupen.ch/veranstaltung/57656
SUMMARY:KUW-Angebot Frühlingsferien: Taufgottesdienst vom 3. Mai
  vorbereiten
PRIORITY:5
X-MICROSOFT-CDO-IMPORTANCE:1
CLASS:PUBLIC
END:VEVENT
END:VCALENDAR
