BEGIN:VCALENDAR
PRODID:-//kirchenweb.ch gmbh//veranstaltungsausgabe v2.0//DE
VERSION:2.0
METHOD:PUBLISH
BEGIN:VEVENT
DTSTART:20261118T113000Z
DTEND:20261118T170000Z
LOCATION:Aula SSZ Allenlüften\, Buchstrasse 32\, 3205 Gümmenen
TRANSP:OPAQUE
SEQUENCE:0
UID:57648-veranstaltung@kirchenregion-laupen.ch
DTSTAMP:20260331T094613Z
DESCRIPTION:Hilfst du mit beim Seniorennachmittag?\nFreude schenken –
  mitanpacken – dabei sein!\nWir suchen Kinder\, die Lust haben:\n\n•
  Tische & Stühle zu stellen\n• Geschirr bereitzulegen\n• Kuchen &
  Kaffee auszuschenken\n• Beim Aufräumen und Abwaschen zu helfen\n
 \nWann:\nMittwoch 25. März 2026\nMittwoch 18. November 2026\nWo: Aula
  Schul- und Sportzentrum Allenlüften\nDer Anlass für die Senioren dauert
  jeweils von 13.30 bis ca. 16.15 Uhr. \nDu solltest aber mehr Zeit
  einberechnen: von 13.00 - ca. 17.15 Uhr \n\nKomm dazu und mach unseren
  Seniorinnen und Senioren eine grosse Freude!\nDie jeweiligen Programme
  für die Senioren siehst du hier:
 \nhttps://www.ref-muehleberg.ch/veranstaltung/55744
 \nhttps://www.ref-muehleberg.ch/veranstaltung/55745\n\nKontakt: Pfrn.
  Tania Guillaume\n\nWeitere Infos:
  https://www.kirchenregion-laupen.ch/veranstaltung/57648
SUMMARY:KUW-Angebot: Mithelfen am Seniorennachmittag
PRIORITY:5
X-MICROSOFT-CDO-IMPORTANCE:1
CLASS:PUBLIC
END:VEVENT
END:VCALENDAR
