BEGIN:VCALENDAR
PRODID:-//kirchenweb.ch gmbh//veranstaltungsausgabe v2.0//DE
VERSION:2.0
METHOD:PUBLISH
BEGIN:VEVENT
DTSTART:20260620T110000Z
DTEND:20260620T133000Z
LOCATION:Gemeinschaftsraum\, Kirchenzentrum EG Ost\, Buchstrasse 8\, 3203
  Mühleberg
TRANSP:OPAQUE
SEQUENCE:0
UID:57640-veranstaltung@kirchenregion-laupen.ch
DTSTAMP:20260218T103014Z
DESCRIPTION:Kursbeschrieb KUW Angebot für SchülerInnen ab 10 Jahren und
  Jugendliche:\nKreative Kreise – Zeichnen\, Entspannen\, Staunen\n\n
 \nTauche ein in eine bunte Welt aus Linien\, Formen und Farben! In diesem
  Kurs lernst du spielerisch\, mit Zirkel und Lineal faszinierende Muster
  zu gestalten. Schritt für Schritt entstehen kleine Kunstwerke\, die
  nicht nur schön aussehen\, sondern auch Ruhe schenken\, Selbstvertrauen
  stärken und die Fantasie beflügeln. Hier zählt nicht Perfektion\,
  sondern Freude am Ausprobieren – und die Entdeckung\, wie viel
  Kreativität in jedem steckt.\nIn diesem kreativen Workshop entdeckst du
  die Freude am Gestalten mit Zirkel\, Lineal und Farben. Schritt für
  Schritt entstehen aus einfachen Formen spannende\, harmonische Bilder\,
  die Raum für Fantasie und Konzentration lassen. Spielerisch wird genaues
  Zeichnen mit freiem Ausmalen verbunden – jedes Bild wird einzigartig.\n
 \nAblauf der Begegnung:\n1. Zeichnen der geometrischen Form.\n2. Kreative
  Aneignung mit verschiedenen Techniken nach Wahl.\nDer Workshop ist ab 10
  Jahren geeignet und lädt dazu ein\, Ruhe\, Kreativität und die Lust am
  Experimentieren zu erleben.\n&nbsp;\n&nbsp;\n&nbsp;\n&nbsp;
 \nKursbeschrieb für Erwachsene:\nKreatives Gestalten mit Zirkel\, Lineal
  und Farben: Geometrie für die Seele\n\n\nTauche ein in die bunte Welt
  von Formen\, Mustern und Farben! In diesem Workshop lernst du
  spielerisch\, mit Zirkel und Lineal faszinierende Muster zu gestalten. 
 \nDu öffnest die Tür zu einer Welt\, in der Formen fliessen und Gedanken
  zur Ruhe kommen. Schritt für Schritt entsteht eine Kunstwerk\, das deine
  persönliche Handschrift trägt.\nJeder gezogene Strich ist ein Atemzug
  für die Seele – ein Moment\, in dem sich deine schöpferische Kraft
  neu entfaltet. Lass dich von der Schönheit deiner eigenen Muster tragen
  und finde in ihnen Leichtigkeit\, Freude und neue Inspiration. . . und
  staune\, wie Mathematik zur Meditation wird.\nOb Anfänger oder schon
  geübter Zeichner – in diesem Workshop entdecken wir\, wie entspannend
  kreatives Arbeiten sein kann.\n\nAblauf der Begegnung:\n1. Zeichnen der
  geometrischen Form.\n2. Kreative Aneignung mit verschiedenen Techniken
  nach Wahl.\nHinweis: Der Kurs ist altersgemischt – Kinder und
  Erwachsene gestalten hier Seite an Seite.\nMaterial steht zur Verfügung
 \n\nWann und Wo:\nAn sechs Samstagen\, 13.00-15.30 Uhr\, voraussichtlich
  im Gemeinschaftsraum Kirchenzentrum\n\n\nDie Nachmittage können sowohl
  als KUW-Angebot wie von Erwachsenen einzeln belegt werden.\nEine
  Anmeldung ist für jeden Nachmittag separat erforderlich\, damit für
  alle Teilnehmenden ein passend eingerichteter Platz bereitgestellt werden
  kann..\n
 \n&nbsp;&nbsp;&nbsp;&nbsp;&nbsp;&nbsp;&nbsp;&nbsp;&nbsp;&nbsp;&nbsp;&nbsp;
 &nbsp;&nbsp;&nbsp;&nbsp;&nbsp;&nbsp;&nbsp;&nbsp;&nbsp;&nbsp;&nbsp;&nbsp;&n
 bsp;&nbsp;&nbsp;&nbsp;\n\nKontakt: Pfrn. Tania Guillaume\n\nWeitere Infos:
  https://www.kirchenregion-laupen.ch/veranstaltung/57640
SUMMARY:KUW- und Erwachsenenangebot: Kreatives Gestalten mit Zirkel\,
  Lineal und Farben
PRIORITY:5
X-MICROSOFT-CDO-IMPORTANCE:1
CLASS:PUBLIC
END:VEVENT
END:VCALENDAR
