BEGIN:VCALENDAR
PRODID:-//kirchenweb.ch gmbh//veranstaltungsausgabe v2.0//DE
VERSION:2.0
METHOD:PUBLISH
BEGIN:VEVENT
DTSTART:20260521T170000Z
DTEND:20260521T181500Z
LOCATION:Gemeinschaftsraum\, Kirchenzentrum EG Ost\, Buchstrasse 8\, 3203
  Mühleberg
TRANSP:OPAQUE
SEQUENCE:0
UID:56871-veranstaltung@kirchenregion-laupen.ch
DTSTAMP:20260327T085257Z
DESCRIPTION:im Anschluss Apéro\n\nKontakt: Hans Rothen\n\n\nWeitere
  Infos: https://www.kirchenregion-laupen.ch/veranstaltung/56871
SUMMARY:Kirchgemeindeversammlung I_2026
PRIORITY:5
X-MICROSOFT-CDO-IMPORTANCE:1
CLASS:PUBLIC
END:VEVENT
END:VCALENDAR
