BEGIN:VCALENDAR
PRODID:-//kirchenweb.ch gmbh//veranstaltungsausgabe v2.0//DE
VERSION:2.0
METHOD:PUBLISH
BEGIN:VEVENT
DTSTART:20261204T180000Z
DTEND:20261204T191500Z
LOCATION:Gemeinschaftsraum\, Kirchenzentrum EG Ost\, Buchstrasse 8\, 3203
  Mühleberg
TRANSP:OPAQUE
SEQUENCE:0
UID:56870-veranstaltung@kirchenregion-laupen.ch
DTSTAMP:20260319T143742Z
DESCRIPTION:Kontakt: Hans Rothen\n\n\nWeitere Infos:
  https://www.kirchenregion-laupen.ch/veranstaltung/56870
SUMMARY:Kirchgemeindeversammlung II_2026
PRIORITY:5
X-MICROSOFT-CDO-IMPORTANCE:1
CLASS:PUBLIC
END:VEVENT
END:VCALENDAR
