BEGIN:VCALENDAR
PRODID:-//kirchenweb.ch gmbh//veranstaltungsausgabe v2.0//DE
VERSION:2.0
METHOD:PUBLISH
BEGIN:VEVENT
DTSTART:20260619T093000Z
DTEND:20260619T111500Z
LOCATION:Restaurant Schwanen\, Alte Bernstrasse 39\, 3205 Allenlüften
TRANSP:OPAQUE
SEQUENCE:0
UID:56847-veranstaltung@kirchenregion-laupen.ch
DTSTAMP:20260219T110007Z
DESCRIPTION:In Gemeinschaft schmeckt's besser! SeniorInnen aus unserer
  Gemeinde treffen sich zum gemeinsamen Mittagessen und gemütlichem
  Austausch meist am letzten Freitag im Monat im Restaurant Schwanen in
  Allenlüften.\n\nKontakt: Pfrin. Tania Guillaume\n\nWeitere Infos:
  https://www.kirchenregion-laupen.ch/veranstaltung/56847
SUMMARY:Freitags-Tisch
PRIORITY:5
X-MICROSOFT-CDO-IMPORTANCE:1
CLASS:PUBLIC
END:VEVENT
END:VCALENDAR
