BEGIN:VCALENDAR
PRODID:-//kirchenweb.ch gmbh//veranstaltungsausgabe v2.0//DE
VERSION:2.0
METHOD:PUBLISH
BEGIN:VEVENT
DTSTART:20260908T093000Z
DTEND:20260908T111500Z
LOCATION:Restaurant Kreuz\, Murtenstrasse 71\, 3205 Gümmenen
TRANSP:OPAQUE
SEQUENCE:0
UID:56686-veranstaltung@kirchenregion-laupen.ch
DTSTAMP:20260416T145316Z
DESCRIPTION:In Gemeinschaft schmeckt's besser! 25 SeniorInnen aus unserer
  Gemeinde treffen sich zum gemeinsamen Mittagessen und gemütichem
  Austausch meist am 2. Dienstag im Monat im Restaurant Kreuz in Gümmenen.
 \n\nKontakt: Pfrn. Tania Guillaume\n\nWeitere Infos:
  https://www.kirchenregion-laupen.ch/veranstaltung/56686
SUMMARY:Dienstags-Tisch
PRIORITY:5
X-MICROSOFT-CDO-IMPORTANCE:1
CLASS:PUBLIC
END:VEVENT
END:VCALENDAR
