BEGIN:VCALENDAR
PRODID:-//kirchenweb.ch gmbh//veranstaltungsausgabe v2.0//DE
VERSION:2.0
METHOD:PUBLISH
BEGIN:VEVENT
DTSTART:20260218T090000Z
DTEND:20260218T110000Z
LOCATION:BZL\, Krankenhausweg 12\, 3177 Laupen
TRANSP:OPAQUE
SEQUENCE:0
UID:56583-veranstaltung@kirchenregion-laupen.ch
DTSTAMP:20251127T082659Z
DESCRIPTION:Kontakt: Pfrin. Tania Guillaume\n\nWeitere Infos:
  https://www.kirchenregion-laupen.ch/veranstaltung/56583
SUMMARY:Gottesdienst BZL
PRIORITY:5
X-MICROSOFT-CDO-IMPORTANCE:1
CLASS:PUBLIC
END:VEVENT
END:VCALENDAR
