BEGIN:VCALENDAR
PRODID:-//kirchenweb.ch gmbh//veranstaltungsausgabe v2.0//DE
VERSION:2.0
METHOD:PUBLISH
BEGIN:VEVENT
DTSTART:20260611T113000Z
DTEND:20260611T150000Z
LOCATION:Gemeinschaftsraum\, Kirchenzentrum EG Ost\, Buchstrasse 8\, 3203
  Mühleberg
TRANSP:OPAQUE
SEQUENCE:0
UID:55782-veranstaltung@kirchenregion-laupen.ch
DTSTAMP:20251030T132618Z
DESCRIPTION:Lismetreff im Gemeinschaftsraum\, Kirchenzentrum Buchstrasse
  8\, EG Ost\, bis ca. 17.00 Uhr.\n\nKontakt: Lukas Sievi\, Sozialdiakon
  SDM\n\nWeitere Infos:
  https://www.kirchenregion-laupen.ch/veranstaltung/55782
SUMMARY:Lisme-Treff
PRIORITY:5
X-MICROSOFT-CDO-IMPORTANCE:1
CLASS:PUBLIC
END:VEVENT
END:VCALENDAR
