BEGIN:VCALENDAR
PRODID:-//kirchenweb.ch gmbh//veranstaltungsausgabe v2.0//DE
VERSION:2.0
METHOD:PUBLISH
BEGIN:VEVENT
DTSTART:20260325T123000Z
DTEND:20260325T153000Z
LOCATION:Aula SSZ Allenlüften\, Buchstrasse 32\, 3205 Gümmenen
TRANSP:OPAQUE
SEQUENCE:0
UID:55744-veranstaltung@kirchenregion-laupen.ch
DTSTAMP:20260223T135126Z
DESCRIPTION:Einladung: \nAlle Gemeindemitglieder ab 65 Jahren sind
  zusammen mit ihren Partnern herzlich eingeladen.\n\n\nKontakt: Lukas
  Sievi (Sozialdiakon SDM)\n\nWeitere Infos:
  https://www.kirchenregion-laupen.ch/veranstaltung/55744
SUMMARY:Seniorennachmittag mit Lotto
PRIORITY:5
X-MICROSOFT-CDO-IMPORTANCE:1
CLASS:PUBLIC
END:VEVENT
END:VCALENDAR
