BEGIN:VCALENDAR
PRODID:-//kirchenweb.ch gmbh//veranstaltungsausgabe v2.0//DE
VERSION:2.0
METHOD:PUBLISH
BEGIN:VEVENT
DTSTART:20260510T080000Z
DTEND:20260510T090000Z
LOCATION:Kirche\, Buchstrasse 5\, 3203 Mühleberg
TRANSP:OPAQUE
SEQUENCE:0
UID:55239-veranstaltung@kirchenregion-laupen.ch
DTSTAMP:20260414T121649Z
DESCRIPTION:Kontakt: Pfr. Andri Kober\, Murten\n\nWeitere Infos:
  https://www.kirchenregion-laupen.ch/veranstaltung/55239
SUMMARY:Gottesdienst
PRIORITY:5
X-MICROSOFT-CDO-IMPORTANCE:1
CLASS:PUBLIC
END:VEVENT
END:VCALENDAR
