BEGIN:VCALENDAR
PRODID:-//kirchenweb.ch gmbh//veranstaltungsausgabe v2.0//DE
VERSION:2.0
METHOD:PUBLISH
BEGIN:VEVENT
DTSTART:20260419T080000Z
DTEND:20260419T090000Z
LOCATION:Kirche\, Buchstrasse 5\, 3203 Mühleberg
TRANSP:OPAQUE
SEQUENCE:0
UID:55226-veranstaltung@kirchenregion-laupen.ch
DTSTAMP:20260419T102858Z
DESCRIPTION:Eine alte Stadt steht im Mittelpunkt des kommenden Sonntags
  – eine Stadt\, die immer wieder fällt und immer wieder aufsteht.
  Zwischen Staub und Geschichte\, zwischen Zorn und Lebendigkeit\, führt
  uns ein berühmter Prophet an einen Ort\, an dem Gottes Wort nicht
  beruhigt\, sondern wachrüttelt.\n\nWas bleibt\, wenn Mauern zerbrechen\,
  Königreiche und Imperien Reiche vergehen?\nWelche Spur zieht das Leben\,
  wenn alles andere in Trümmern liegt?\n\nEine Predigt über das\, was
  sich nicht auslöschen lässt.\n\nKontakt: Pfrin. Tania Guillaume\n
 \nWeitere Infos: https://www.kirchenregion-laupen.ch/veranstaltung/55226
SUMMARY:Gottesdienst
PRIORITY:5
X-MICROSOFT-CDO-IMPORTANCE:1
CLASS:PUBLIC
END:VEVENT
END:VCALENDAR
