BEGIN:VCALENDAR
PRODID:-//kirchenweb.ch gmbh//veranstaltungsausgabe v2.0//DE
VERSION:2.0
METHOD:PUBLISH
BEGIN:VEVENT
DTSTART:20260524T080000Z
DTEND:20260524T090000Z
LOCATION:Kirche\, Buchstrasse 5\, 3203 Mühleberg
TRANSP:OPAQUE
SEQUENCE:0
UID:55191-veranstaltung@kirchenregion-laupen.ch
DTSTAMP:20260318T203139Z
DESCRIPTION:Kontakt: Pfrn. Tania Guillaume\n\nWeitere Infos:
  https://www.kirchenregion-laupen.ch/veranstaltung/55191
SUMMARY:Pfingstgottesdienst mit Abendmahl
PRIORITY:5
X-MICROSOFT-CDO-IMPORTANCE:1
CLASS:PUBLIC
END:VEVENT
END:VCALENDAR
