BEGIN:VCALENDAR
PRODID:-//kirchenweb.ch gmbh//veranstaltungsausgabe v2.0//DE
VERSION:2.0
METHOD:PUBLISH
BEGIN:VEVENT
DTSTART:20260301T090000Z
DTEND:20260301T100000Z
LOCATION:Kirche\, Buchstrasse 5\, 3203 Mühleberg
TRANSP:OPAQUE
SEQUENCE:0
UID:55185-veranstaltung@kirchenregion-laupen.ch
DTSTAMP:20260309T145754Z
DESCRIPTION:Kontakt: Pfrn. Tania Guillaume\n\nWeitere Infos:
  https://www.kirchenregion-laupen.ch/veranstaltung/55185
SUMMARY:Ökumenischer Gottesdienst mit Abendmahl
PRIORITY:5
X-MICROSOFT-CDO-IMPORTANCE:1
CLASS:PUBLIC
END:VEVENT
END:VCALENDAR
