BEGIN:VCALENDAR
PRODID:-//kirchenweb.ch gmbh//veranstaltungsausgabe v2.0//DE
VERSION:2.0
METHOD:PUBLISH
BEGIN:VEVENT
DTSTART;VALUE=DATE:20260222
DTEND;VALUE=DATE:20260223
LOCATION:Kirche\, Buchstrasse 5\, 3203 Mühleberg
TRANSP:OPAQUE
SEQUENCE:0
UID:55184-veranstaltung@kirchenregion-laupen.ch
DTSTAMP:20251210T081150Z
DESCRIPTION:Kein Gottesdienst in der Kirche Mühleberg. Gerne empfehlen
  wir Ihnen den Besuch in einer unserer Nachbargemeinden!\n\nKontakt:
  tania.guillaume@ref-muehleberg.ch\n\nWeitere Infos:
  https://www.kirchenregion-laupen.ch/veranstaltung/55184
SUMMARY:Kein Gottesdienst in der Kirche Mühleberg
PRIORITY:5
X-MICROSOFT-CDO-IMPORTANCE:1
CLASS:PUBLIC
END:VEVENT
END:VCALENDAR
