BEGIN:VCALENDAR
PRODID:-//kirchenweb.ch gmbh//veranstaltungsausgabe v2.0//DE
VERSION:2.0
METHOD:PUBLISH
BEGIN:VEVENT
DTSTART:20260422T113000Z
DTEND:20260422T153000Z
LOCATION:Gemeinschaftsraum\, Kirchenzentrum EG Ost\, Buchstrasse 8\, 3203
  Mühleberg
TRANSP:OPAQUE
SEQUENCE:0
UID:55020-veranstaltung@kirchenregion-laupen.ch
DTSTAMP:20260312T135823Z
DESCRIPTION:Terminvereinbarung auf Anfrage und Anmeldung.\n\nIm Anschluss
  https://kgmuehleberg.sharepoint.com/:b:/s/KirchgemeindeMhleberg/EZthPtZT6
 ZJCj2OI23EzF5QBtQzlmTx9SSpLhQNHcoA_AA?e=rLEO0j\n\nKontakt: Frau Christine
  Berger\nMütter- und Väterberaterin Beratung Frühe Kindheit\nTeam
  Ittigen\n079 765 12 47\n\nMütter- und Väterberatung Kanton Bern
 \nStandort Ittigen\n\n\nWeitere Infos:
  https://www.kirchenregion-laupen.ch/veranstaltung/55020
SUMMARY:Mütter- und Väterberatung Mühleberg - im Anschluss Elterncafé
PRIORITY:5
X-MICROSOFT-CDO-IMPORTANCE:1
CLASS:PUBLIC
END:VEVENT
END:VCALENDAR
