BEGIN:VCALENDAR
PRODID:-//kirchenweb.ch gmbh//veranstaltungsausgabe v2.0//DE
VERSION:2.0
METHOD:PUBLISH
BEGIN:VEVENT
DTSTART:20260517T080000Z
DTEND:20260517T092000Z
LOCATION:Kirche\, Buchstrasse 5\, 3203 Mühleberg
TRANSP:OPAQUE
SEQUENCE:0
UID:55010-veranstaltung@kirchenregion-laupen.ch
DTSTAMP:20260331T074745Z
DESCRIPTION:Konfirmationsgottesdienst II. \nGestaltet von den
  KonfirmandInnen und Sozialdiakon Lukas Sievi\nMusik: Konfirmandengruppe
  und Organistin. \n\nKontakt: Lukas Sievi (Sozialdiakon SDM)\n\nWeitere
  Infos: https://www.kirchenregion-laupen.ch/veranstaltung/55010
SUMMARY:Konfirmationsgottesdienst 2 9A
PRIORITY:5
X-MICROSOFT-CDO-IMPORTANCE:1
CLASS:PUBLIC
END:VEVENT
END:VCALENDAR
