BEGIN:VCALENDAR
PRODID:-//kirchenweb.ch gmbh//veranstaltungsausgabe v2.0//DE
VERSION:2.0
METHOD:PUBLISH
BEGIN:VEVENT
DTSTART:20260514T080000Z
DTEND:20260514T092000Z
LOCATION:Kirche\, Buchstrasse 5\, 3203 Mühleberg
TRANSP:OPAQUE
SEQUENCE:0
UID:55009-veranstaltung@kirchenregion-laupen.ch
DTSTAMP:20260401T062222Z
DESCRIPTION:Konfirmationsgottesdienst I. \nGestaltet von den
  KonfirmandInnen und Sozialdiakon Lukas Sievi\nMusik: Konfirmandengruppe
  und Organistin. \n\nKontakt: Lukas Sievi (Sozialdiakon SDM)\n\nWeitere
  Infos: https://www.kirchenregion-laupen.ch/veranstaltung/55009
SUMMARY:Konfirmationsgottesdienst 1 9B
PRIORITY:5
X-MICROSOFT-CDO-IMPORTANCE:1
CLASS:PUBLIC
END:VEVENT
END:VCALENDAR
