BEGIN:VCALENDAR
PRODID:-//kirchenweb.ch gmbh//veranstaltungsausgabe v2.0//DE
VERSION:2.0
METHOD:PUBLISH
BEGIN:VEVENT
DTSTART:20260315T090000Z
DTEND:20260315T100000Z
LOCATION:Kirche\, Buchstrasse 5\, 3203 Mühleberg
TRANSP:OPAQUE
SEQUENCE:0
UID:54749-veranstaltung@kirchenregion-laupen.ch
DTSTAMP:20260317T052553Z
DESCRIPTION:Vielfältig begabt und begeistert\nPrädikantinnen und
  Prädikanten leiten jährlich rund 400 Gottesdienste im Gebiet der Ref.
  Kirchen Bern-Jura-Solothurn und den angrenzenden Regionen. Sie wurden
  ausgebildet\, um eigenständig Gottesdienste zu gestalten. Denn alle
  glaubenden Menschen sind gemäss ihren Begabungen dazu berufen\, an der
  Verkündigung des Evangeliums mitzuwirken. Aktuell üben 45 Personen
  diesen Dienst aus.\nZehn weitere Personen stehen vor dem Abschluss ihrer
  Ausbildung zur Prädikantin oder zum Prädikanten. Dazu gehört ein
  Prüfungsgottesdienst. Am 15. März 2026 findet derjenige von Myriam
  Grütter bei uns in der Kirche Mühleberg statt. Der Gottesdienst ist
  öffentlich. Alle sind herzlich eingeladen. Wenn eine schöne Schar
  mitfeiert\, so ist dies eine willkommene Unterstützung.\n\nKontakt: Pfr.
  Pascal Känzig\n\nWeitere Infos:
  https://www.kirchenregion-laupen.ch/veranstaltung/54749
SUMMARY:Prädikanten Prüfungsgottesdienst
PRIORITY:5
X-MICROSOFT-CDO-IMPORTANCE:1
CLASS:PUBLIC
END:VEVENT
END:VCALENDAR
