BEGIN:VCALENDAR
PRODID:-//kirchenweb.ch gmbh//veranstaltungsausgabe v2.0//DE
VERSION:2.0
METHOD:PUBLISH
BEGIN:VEVENT
DTSTART:20260809T080000Z
DTEND:20260809T090000Z
LOCATION:Kirche\, Buchstrasse 5\, 3203 Mühleberg
TRANSP:OPAQUE
SEQUENCE:0
UID:54550-veranstaltung@kirchenregion-laupen.ch
DTSTAMP:20260126T093950Z
DESCRIPTION:Kontakt: Lukas Sievi (Sozialdiakon SDM)\n\nWeitere Infos:
  https://www.kirchenregion-laupen.ch/veranstaltung/54550
SUMMARY:Gottesdienst zum Schulanfang
PRIORITY:5
X-MICROSOFT-CDO-IMPORTANCE:1
CLASS:PUBLIC
END:VEVENT
END:VCALENDAR
