BEGIN:VCALENDAR
PRODID:-//kirchenweb.ch gmbh//veranstaltungsausgabe v2.0//DE
VERSION:2.0
METHOD:PUBLISH
BEGIN:VEVENT
DTSTART:20260613T120000Z
DTEND:20260613T150000Z
LOCATION:Mehrzweckraum\, Kirchenzentrum\, EG West\, Buchstrasse 8\, 3203
  Mühleberg
TRANSP:OPAQUE
SEQUENCE:0
UID:54507-veranstaltung@kirchenregion-laupen.ch
DTSTAMP:20260216T102813Z
DESCRIPTION:Für Kinder ab der 2. Klasse bis und mit 8. Klasse. In der
  neunten Klasse besteht die Möglichkeit als Jungscharleiter im Leiterteam
  einzusteigen. \n\nAlle zwei Wochen von 14.00-17.00 Uhr ausser
  Schulferien. \n\nTreffpunkt: 14.00 Uhr beim Kirchenzentrum ("altes
  Schulhaus") an der Buchstrasse 8 in Mühleberg.  \nMitnehmen: Dem Wetter
  angepasste Kleidung\, Z'vieri. \n\nWeitere Infos: \n\n\nKontakt: Lukas
  Sievi\, Sozialdiakon SDM\, Tel. 031 751 39 04\n\n\nWeitere Infos:
  https://www.kirchenregion-laupen.ch/veranstaltung/54507
SUMMARY:Jungschar
PRIORITY:5
X-MICROSOFT-CDO-IMPORTANCE:1
CLASS:PUBLIC
END:VEVENT
END:VCALENDAR
