BEGIN:VCALENDAR
PRODID:-//kirchenweb.ch gmbh//veranstaltungsausgabe v2.0//DE
VERSION:2.0
METHOD:PUBLISH
BEGIN:VEVENT
DTSTART:20250326T123000Z
DTEND:20250326T153000Z
LOCATION:Aula SSZ Allenlüften\, Buchstrasse 32\, 3205 Gümmenen
TRANSP:OPAQUE
SEQUENCE:0
UID:49896-veranstaltung@kirchenregion-laupen.ch
DTSTAMP:20260113T090754Z
DESCRIPTION:Sehen Sie eine Zeitreise durch die Firmengeschichte der
  «Burger & Jacobi» Piano aus Madretsch\, heute Teil von Biel. \n
 \nEinladung: \nAlle älteren Gemeindemitglieder ab 65 Jahren zusammen mit
  ihren Partnern sind herzlich eingeladen.\nAnschliessend feines Z’Vieri!
  \n\nKontakt: Lukas Sievi (Sozialdiakon SDM)\n\nWeitere Infos:
  https://www.kirchenregion-laupen.ch/veranstaltung/49896
SUMMARY:Seniorennachmittag
PRIORITY:5
X-MICROSOFT-CDO-IMPORTANCE:1
CLASS:PUBLIC
END:VEVENT
END:VCALENDAR
