BEGIN:VCALENDAR
PRODID:-//kirchenweb.ch gmbh//veranstaltungsausgabe v2.0//DE
VERSION:2.0
METHOD:PUBLISH
BEGIN:VEVENT
DTSTART:20250507T113000Z
DTEND:20250507T133000Z
LOCATION:Mehrzweckraum\, Kirchenzentrum\, EG West\, Buchstrasse 8\, 3203
  Mühleberg
TRANSP:OPAQUE
SEQUENCE:0
UID:49840-veranstaltung@kirchenregion-laupen.ch
DTSTAMP:20250808T151856Z
DESCRIPTION:In diesem KUW Kurs der 5. Klasse lernen die TN wie das
  Christentum aus Israel in die Schweiz kam. \n\nKontakt: Lukas Sievi
  (Sozialdiakon SDM)\n\nWeitere Infos:
  https://www.kirchenregion-laupen.ch/veranstaltung/49840
SUMMARY:KUW 5a Wie das Christentum zu uns kam
PRIORITY:5
X-MICROSOFT-CDO-IMPORTANCE:1
CLASS:PUBLIC
END:VEVENT
END:VCALENDAR
