BEGIN:VCALENDAR
PRODID:-//kirchenweb.ch gmbh//veranstaltungsausgabe v2.0//DE
VERSION:2.0
METHOD:PUBLISH
BEGIN:VEVENT
DTSTART:20250420T091000Z
DTEND:20250420T100000Z
LOCATION:Kirche\, Buchstrasse 5\, 3203 Mühleberg
TRANSP:OPAQUE
SEQUENCE:0
UID:48416-veranstaltung@kirchenregion-laupen.ch
DTSTAMP:20250325T101708Z
DESCRIPTION:Gemeinsames Eier-Tütschen für Gross und Klein nach dem
  Ostergottesdienst.\nVielen Dank an alle freiwilligen Helferinnen und
  Helfer\, - und: Herzlich Willkommen!\n\nKontakt: Pfr. Christfried Böhm\n
 \nWeitere Infos: https://www.kirchenregion-laupen.ch/veranstaltung/48416
SUMMARY:Eier-Tütschete
PRIORITY:5
X-MICROSOFT-CDO-IMPORTANCE:1
CLASS:PUBLIC
END:VEVENT
END:VCALENDAR
